BEGIN:VCALENDAR
PRODID:-//Pixl8//Eventfolio//EN
VERSION:2.0
X-WR-TIMEZONE:Europe/London
CALSCALE:GREGORIAN
METHOD:PUBLISH
CLASS:PUBLIC
BEGIN:VTIMEZONE
TZID:Europe/London
LAST-MODIFIED:20260306T231828Z
TZURL:https://www.tzurl.org/zoneinfo-outlook/Europe/London
X-LIC-LOCATION:Europe/London
BEGIN:DAYLIGHT
TZNAME:BST
TZOFFSETFROM:+0000
TZOFFSETTO:+0100
DTSTART:19700329T010000
RRULE:FREQ=YEARLY;BYMONTH=3;BYDAY=-1SU
END:DAYLIGHT
BEGIN:STANDARD
TZNAME:GMT
TZOFFSETFROM:+0100
TZOFFSETTO:+0000
DTSTART:19701025T020000
RRULE:FREQ=YEARLY;BYMONTH=10;BYDAY=-1SU
END:STANDARD
END:VTIMEZONE
BEGIN:VEVENT
DTSTART;TZID=Europe/London;VALUE=DATE:20260712
DTEND;TZID=Europe/London;VALUE=DATE:20260717
DTSTAMP:20260423T065208Z
UID:{BA80C669-4DF3-4139-A2C432FCC8A0F714}
LOCATION:University of British Columbia
SUMMARY:16th International Congress on the Biology of Fish 2026
DESCRIPTION:The 16th ICBF meeting will provide an opportunity for researchers and scientists from all over the world to share and collaborate on developments and findings in fish physiology.\n
 \n
 Event details: https://www.sebiology.org/events/ems-event-calendar/16th-international-congress-on-the-biology-of-fish-2026.html
PRIORITY:1
END:VEVENT
END:VCALENDAR