BEGIN:VCALENDAR
PRODID:-//Pixl8//Eventfolio//EN
VERSION:2.0
X-WR-TIMEZONE:Europe/London
CALSCALE:GREGORIAN
METHOD:PUBLISH
CLASS:PUBLIC
BEGIN:VTIMEZONE
TZID:Europe/London
LAST-MODIFIED:20260306T231828Z
TZURL:https://www.tzurl.org/zoneinfo-outlook/Europe/London
X-LIC-LOCATION:Europe/London
BEGIN:DAYLIGHT
TZNAME:BST
TZOFFSETFROM:+0000
TZOFFSETTO:+0100
DTSTART:19700329T010000
RRULE:FREQ=YEARLY;BYMONTH=3;BYDAY=-1SU
END:DAYLIGHT
BEGIN:STANDARD
TZNAME:GMT
TZOFFSETFROM:+0100
TZOFFSETTO:+0000
DTSTART:19701025T020000
RRULE:FREQ=YEARLY;BYMONTH=10;BYDAY=-1SU
END:STANDARD
END:VTIMEZONE
BEGIN:VEVENT
DTSTART;TZID=Europe/London:20260514T170000
DTEND;TZID=Europe/London:20260514T183000
DTSTAMP:20260423T150410Z
UID:{3165BB02-1A96-4D80-A447B25E08D6317F}
LOCATION:St Cross College Oxford
SUMMARY:2026 Lorna Casselton Memorial Lecture
DESCRIPTION:Join the 12th Lorna Casselton Memorial Lecture entitled "How Experimental Worm Genetics and Genomics Revealed an Ancient World of Tiny RNAs".\n
 \n
 Event details: https://www.sebiology.org/events/ems-event-calendar/2026-lorna-casselton-memorial-lecture.html
PRIORITY:1
END:VEVENT
END:VCALENDAR