BEGIN:VCALENDAR
PRODID:-//Pixl8//Eventfolio//EN
VERSION:2.0
X-WR-TIMEZONE:Europe/London
CALSCALE:GREGORIAN
METHOD:PUBLISH
CLASS:PUBLIC
BEGIN:VTIMEZONE
TZID:Europe/London
LAST-MODIFIED:20260306T231828Z
TZURL:https://www.tzurl.org/zoneinfo-outlook/Europe/London
X-LIC-LOCATION:Europe/London
BEGIN:DAYLIGHT
TZNAME:BST
TZOFFSETFROM:+0000
TZOFFSETTO:+0100
DTSTART:19700329T010000
RRULE:FREQ=YEARLY;BYMONTH=3;BYDAY=-1SU
END:DAYLIGHT
BEGIN:STANDARD
TZNAME:GMT
TZOFFSETFROM:+0100
TZOFFSETTO:+0000
DTSTART:19701025T020000
RRULE:FREQ=YEARLY;BYMONTH=10;BYDAY=-1SU
END:STANDARD
END:VTIMEZONE
BEGIN:VEVENT
DTSTART;TZID=Europe/London:20230118T120000
DTEND;TZID=Europe/London:20230118T124500
DTSTAMP:20260423T150632Z
UID:{7665F344-9E8D-417C-800368A60BB502D0}
LOCATION:Zoom
SUMMARY:A career in academic publishing | Careers and Coffee (January)
DESCRIPTION:Our first Careers and Coffee webinar will happen on Wednesday, 18 January, at 12 pm (UK time), with Dr Michael Page talking about A career in academic publishing.\n
 \n
 Event details: https://www.sebiology.org/events/ems-event-calendar/a-career-in-academic-publishing-careers-and-coffee-january.html
PRIORITY:1
END:VEVENT
END:VCALENDAR