BEGIN:VCALENDAR
PRODID:-//Pixl8//Eventfolio//EN
VERSION:2.0
X-WR-TIMEZONE:Europe/London
CALSCALE:GREGORIAN
METHOD:PUBLISH
CLASS:PUBLIC
BEGIN:VTIMEZONE
TZID:Europe/London
LAST-MODIFIED:20260306T231828Z
TZURL:https://www.tzurl.org/zoneinfo-outlook/Europe/London
X-LIC-LOCATION:Europe/London
BEGIN:DAYLIGHT
TZNAME:BST
TZOFFSETFROM:+0000
TZOFFSETTO:+0100
DTSTART:19700329T010000
RRULE:FREQ=YEARLY;BYMONTH=3;BYDAY=-1SU
END:DAYLIGHT
BEGIN:STANDARD
TZNAME:GMT
TZOFFSETFROM:+0100
TZOFFSETTO:+0000
DTSTART:19701025T020000
RRULE:FREQ=YEARLY;BYMONTH=10;BYDAY=-1SU
END:STANDARD
END:VTIMEZONE
BEGIN:VEVENT
DTSTART;TZID=Europe/London:20250910T093000
DTEND;TZID=Europe/London:20250910T130000
DTSTAMP:20260423T150040Z
UID:{6A0A2B7A-3944-4AF2-8468800018C42F83}
LOCATION:Hybrid\, Multiple locations
SUMMARY:AI for All, Technologies for Inclusive Bioscience Education
DESCRIPTION:Join the Bioscience Awarding Gap Network at AI For All to explore the opportunities, share ideas, and discover practical ways to adapt your bioscience teaching to make the most of these powerful new tools.\n
 \n
 Event details: https://www.sebiology.org/events/ems-event-calendar/ai-for-all-technologies-for-inclusive-bioscience-education.html
PRIORITY:1
END:VEVENT
END:VCALENDAR