BEGIN:VCALENDAR
PRODID:-//Pixl8//Eventfolio//EN
VERSION:2.0
X-WR-TIMEZONE:Europe/London
CALSCALE:GREGORIAN
METHOD:PUBLISH
CLASS:PUBLIC
BEGIN:VTIMEZONE
TZID:Europe/London
LAST-MODIFIED:20260306T231828Z
TZURL:https://www.tzurl.org/zoneinfo-outlook/Europe/London
X-LIC-LOCATION:Europe/London
BEGIN:DAYLIGHT
TZNAME:BST
TZOFFSETFROM:+0000
TZOFFSETTO:+0100
DTSTART:19700329T010000
RRULE:FREQ=YEARLY;BYMONTH=3;BYDAY=-1SU
END:DAYLIGHT
BEGIN:STANDARD
TZNAME:GMT
TZOFFSETFROM:+0100
TZOFFSETTO:+0000
DTSTART:19701025T020000
RRULE:FREQ=YEARLY;BYMONTH=10;BYDAY=-1SU
END:STANDARD
END:VTIMEZONE
BEGIN:VEVENT
DTSTART;TZID=Europe/London;VALUE=DATE:20231016
DTEND;TZID=Europe/London;VALUE=DATE:20231021
DTSTAMP:20260423T145948Z
UID:{5E634D78-8C2B-49A0-BFAD2071E18425EA}
LOCATION:Online
SUMMARY:Biology Week 2023
DESCRIPTION:Biology Week aims to celebrate and raise the profile of these achievements and the important work that bioscientists are doing, and to highlight this to all public audiences.\n
 \n
 Event details: https://www.sebiology.org/events/ems-event-calendar/biology-week-2023.html
PRIORITY:1
END:VEVENT
END:VCALENDAR