BEGIN:VCALENDAR
PRODID:-//Pixl8//Eventfolio//EN
VERSION:2.0
X-WR-TIMEZONE:Europe/London
CALSCALE:GREGORIAN
METHOD:PUBLISH
CLASS:PUBLIC
BEGIN:VTIMEZONE
TZID:Europe/London
LAST-MODIFIED:20260306T231828Z
TZURL:https://www.tzurl.org/zoneinfo-outlook/Europe/London
X-LIC-LOCATION:Europe/London
BEGIN:DAYLIGHT
TZNAME:BST
TZOFFSETFROM:+0000
TZOFFSETTO:+0100
DTSTART:19700329T010000
RRULE:FREQ=YEARLY;BYMONTH=3;BYDAY=-1SU
END:DAYLIGHT
BEGIN:STANDARD
TZNAME:GMT
TZOFFSETFROM:+0100
TZOFFSETTO:+0000
DTSTART:19701025T020000
RRULE:FREQ=YEARLY;BYMONTH=10;BYDAY=-1SU
END:STANDARD
END:VTIMEZONE
BEGIN:VEVENT
DTSTART;TZID=Europe/London:20241118T090000
DTEND;TZID=Europe/London:20241119T170000
DTSTAMP:20260423T145947Z
UID:{6B045380-C009-4B82-ABBB5B6DCEC6DB5F}
LOCATION:Manchester\, UK
SUMMARY:Carbon dioxide detection in biological systems
DESCRIPTION:This meeting will unite researchers who study carbon dioxide biology in photosynthetic and animal systems.\n
 \n
 Event details: https://www.sebiology.org/events/ems-event-calendar/carbon-dioxide-detection-in-biological-systems.html
PRIORITY:1
END:VEVENT
END:VCALENDAR