BEGIN:VCALENDAR
PRODID:-//Pixl8//Eventfolio//EN
VERSION:2.0
X-WR-TIMEZONE:Europe/London
CALSCALE:GREGORIAN
METHOD:PUBLISH
CLASS:PUBLIC
BEGIN:VTIMEZONE
TZID:Europe/London
LAST-MODIFIED:20260306T231828Z
TZURL:https://www.tzurl.org/zoneinfo-outlook/Europe/London
X-LIC-LOCATION:Europe/London
BEGIN:DAYLIGHT
TZNAME:BST
TZOFFSETFROM:+0000
TZOFFSETTO:+0100
DTSTART:19700329T010000
RRULE:FREQ=YEARLY;BYMONTH=3;BYDAY=-1SU
END:DAYLIGHT
BEGIN:STANDARD
TZNAME:GMT
TZOFFSETFROM:+0100
TZOFFSETTO:+0000
DTSTART:19701025T020000
RRULE:FREQ=YEARLY;BYMONTH=10;BYDAY=-1SU
END:STANDARD
END:VTIMEZONE
BEGIN:VEVENT
DTSTART;TZID=Europe/London:20230223T170000
DTEND;TZID=Europe/London:20230223T174500
DTSTAMP:20260423T150631Z
UID:{7A61EFE0-1913-4909-A3B78F56643F2D79}
LOCATION:Zoom
SUMMARY:Careers in Technology Transfer | Careers and Coffee (February)
DESCRIPTION:Our second Careers and Coffee webinar will happen on Thursday, 23 February, at 5 pm (UK time), with Dr Shruthi Krishnamurthy.\n
 \n
 Event details: https://www.sebiology.org/events/ems-event-calendar/careers-in-technology-transfer-careers-and-coffee-february.html
PRIORITY:1
END:VEVENT
END:VCALENDAR