BEGIN:VCALENDAR
PRODID:-//Pixl8//Eventfolio//EN
VERSION:2.0
X-WR-TIMEZONE:Europe/London
CALSCALE:GREGORIAN
METHOD:PUBLISH
CLASS:PUBLIC
BEGIN:VTIMEZONE
TZID:Europe/London
LAST-MODIFIED:20260306T231828Z
TZURL:https://www.tzurl.org/zoneinfo-outlook/Europe/London
X-LIC-LOCATION:Europe/London
BEGIN:DAYLIGHT
TZNAME:BST
TZOFFSETFROM:+0000
TZOFFSETTO:+0100
DTSTART:19700329T010000
RRULE:FREQ=YEARLY;BYMONTH=3;BYDAY=-1SU
END:DAYLIGHT
BEGIN:STANDARD
TZNAME:GMT
TZOFFSETFROM:+0100
TZOFFSETTO:+0000
DTSTART:19701025T020000
RRULE:FREQ=YEARLY;BYMONTH=10;BYDAY=-1SU
END:STANDARD
END:VTIMEZONE
BEGIN:VEVENT
DTSTART;TZID=Europe/London;VALUE=DATE:20230510
DTEND;TZID=Europe/London;VALUE=DATE:20230512
DTSTAMP:20260423T155115Z
UID:{17607F12-D139-4963-99B4A3EA6A9010AB}
LOCATION:Omnia (Aula of Wageningen University) - University Campus
SUMMARY:Conference: Biomechanics in Nature
DESCRIPTION:We are delighted to be hosting a Biomechanics in Nature conference on the occasion of the retirement of Johan van Leeuwen as professor of Experimental Zoology.\n
 \n
 Event details: https://www.sebiology.org/events/ems-event-calendar/conference-biomechanics-in-nature.html
PRIORITY:1
END:VEVENT
END:VCALENDAR