BEGIN:VCALENDAR
PRODID:-//Pixl8//Eventfolio//EN
VERSION:2.0
X-WR-TIMEZONE:Europe/London
CALSCALE:GREGORIAN
METHOD:PUBLISH
CLASS:PUBLIC
BEGIN:VTIMEZONE
TZID:Europe/London
LAST-MODIFIED:20260306T231828Z
TZURL:https://www.tzurl.org/zoneinfo-outlook/Europe/London
X-LIC-LOCATION:Europe/London
BEGIN:DAYLIGHT
TZNAME:BST
TZOFFSETFROM:+0000
TZOFFSETTO:+0100
DTSTART:19700329T010000
RRULE:FREQ=YEARLY;BYMONTH=3;BYDAY=-1SU
END:DAYLIGHT
BEGIN:STANDARD
TZNAME:GMT
TZOFFSETFROM:+0100
TZOFFSETTO:+0000
DTSTART:19701025T020000
RRULE:FREQ=YEARLY;BYMONTH=10;BYDAY=-1SU
END:STANDARD
END:VTIMEZONE
BEGIN:VEVENT
DTSTART;TZID=Europe/London;VALUE=DATE:20250530
DTEND;TZID=Europe/London;VALUE=DATE:20250531
DTSTAMP:20260425T152730Z
UID:{34655B7F-78EA-4DF9-8BAF73087E7DEF05}
LOCATION:Town House\, Penrhyn Road Campus\, Kingston University\, London (Online tickets also available)
SUMMARY:Diversifying the Curriculum in the Biosciences
DESCRIPTION:Academics from the bioscience community to discuss diversifying curriculum in the Biosciences, incorporating student voices.\n
 \n
 Event details: https://www.sebiology.org/events/ems-event-calendar/diversifying-the-curriculum-in-the-biosciences.html
PRIORITY:1
END:VEVENT
END:VCALENDAR