BEGIN:VCALENDAR
PRODID:-//Pixl8//Eventfolio//EN
VERSION:2.0
X-WR-TIMEZONE:Europe/London
CALSCALE:GREGORIAN
METHOD:PUBLISH
CLASS:PUBLIC
BEGIN:VTIMEZONE
TZID:Europe/London
LAST-MODIFIED:20260306T231828Z
TZURL:https://www.tzurl.org/zoneinfo-outlook/Europe/London
X-LIC-LOCATION:Europe/London
BEGIN:DAYLIGHT
TZNAME:BST
TZOFFSETFROM:+0000
TZOFFSETTO:+0100
DTSTART:19700329T010000
RRULE:FREQ=YEARLY;BYMONTH=3;BYDAY=-1SU
END:DAYLIGHT
BEGIN:STANDARD
TZNAME:GMT
TZOFFSETFROM:+0100
TZOFFSETTO:+0000
DTSTART:19701025T020000
RRULE:FREQ=YEARLY;BYMONTH=10;BYDAY=-1SU
END:STANDARD
END:VTIMEZONE
BEGIN:VEVENT
DTSTART;TZID=Europe/London;VALUE=DATE:20240513
DTEND;TZID=Europe/London;VALUE=DATE:20240516
DTSTAMP:20260423T150409Z
UID:{D08A5428-105E-43CF-A843EFD1E4F6D2F6}
LOCATION:Versailles Saclay
SUMMARY:IJPB Symposium 2024 - Plant modeling: opportunities and challenges
DESCRIPTION:The Jean-Pierre Bourgin Institute, a major laboratory for plant science research affiliated to both INRAE and AgroParisTech, is organising the second edition of its international symposium.\n
 \n
 Event details: https://www.sebiology.org/events/ems-event-calendar/ijpb-symposium-2024-plant-modeling-opportunities-and-challenges.html
PRIORITY:1
END:VEVENT
END:VCALENDAR