BEGIN:VCALENDAR
PRODID:-//Pixl8//Eventfolio//EN
VERSION:2.0
X-WR-TIMEZONE:Europe/London
CALSCALE:GREGORIAN
METHOD:PUBLISH
CLASS:PUBLIC
BEGIN:VTIMEZONE
TZID:Europe/London
LAST-MODIFIED:20260306T231828Z
TZURL:https://www.tzurl.org/zoneinfo-outlook/Europe/London
X-LIC-LOCATION:Europe/London
BEGIN:DAYLIGHT
TZNAME:BST
TZOFFSETFROM:+0000
TZOFFSETTO:+0100
DTSTART:19700329T010000
RRULE:FREQ=YEARLY;BYMONTH=3;BYDAY=-1SU
END:DAYLIGHT
BEGIN:STANDARD
TZNAME:GMT
TZOFFSETFROM:+0100
TZOFFSETTO:+0000
DTSTART:19701025T020000
RRULE:FREQ=YEARLY;BYMONTH=10;BYDAY=-1SU
END:STANDARD
END:VTIMEZONE
BEGIN:VEVENT
DTSTART;TZID=Europe/London:20251112T110000
DTEND;TZID=Europe/London:20251112T130000
DTSTAMP:20260421T075231Z
UID:{40EEE0EC-20D9-4C20-8CEDF91920044383}
LOCATION:Online
SUMMARY:Interdisciplinary collaboration 
DESCRIPTION:Learn the mindset and supporting skills required for productive interdisciplinary working, from effective communication to group problem-solving to develop solutions to complex challenges.\n
 \n
 Event details: https://www.sebiology.org/events/ems-event-calendar/interdisciplinary-collaboration.html
PRIORITY:1
END:VEVENT
END:VCALENDAR