BEGIN:VCALENDAR
PRODID:-//Pixl8//Eventfolio//EN
VERSION:2.0
X-WR-TIMEZONE:Europe/London
CALSCALE:GREGORIAN
METHOD:PUBLISH
CLASS:PUBLIC
BEGIN:VTIMEZONE
TZID:Europe/London
LAST-MODIFIED:20260306T231828Z
TZURL:https://www.tzurl.org/zoneinfo-outlook/Europe/London
X-LIC-LOCATION:Europe/London
BEGIN:DAYLIGHT
TZNAME:BST
TZOFFSETFROM:+0000
TZOFFSETTO:+0100
DTSTART:19700329T010000
RRULE:FREQ=YEARLY;BYMONTH=3;BYDAY=-1SU
END:DAYLIGHT
BEGIN:STANDARD
TZNAME:GMT
TZOFFSETFROM:+0100
TZOFFSETTO:+0000
DTSTART:19701025T020000
RRULE:FREQ=YEARLY;BYMONTH=10;BYDAY=-1SU
END:STANDARD
END:VTIMEZONE
BEGIN:VEVENT
DTSTART;TZID=Europe/London;VALUE=DATE:20250408
DTEND;TZID=Europe/London;VALUE=DATE:20250412
DTSTAMP:20260422T225843Z
UID:{4767C018-96DE-4948-A918494E811CF4E3}
LOCATION:Murcia\, Spain 
SUMMARY:International Advances in Plant Virology 2025
DESCRIPTION:The AAB ‘International Advances in Plant Virology (IAPV)’ conference has a broad remit where we invite participation from scientists who are interested in all aspects of plant virology\n
 \n
 Event details: https://www.sebiology.org/events/ems-event-calendar/international-advances-in-plant-virology-2025.html
PRIORITY:1
END:VEVENT
END:VCALENDAR