BEGIN:VCALENDAR
PRODID:-//Pixl8//Eventfolio//EN
VERSION:2.0
X-WR-TIMEZONE:Europe/London
CALSCALE:GREGORIAN
METHOD:PUBLISH
CLASS:PUBLIC
BEGIN:VTIMEZONE
TZID:Europe/London
LAST-MODIFIED:20260306T231828Z
TZURL:https://www.tzurl.org/zoneinfo-outlook/Europe/London
X-LIC-LOCATION:Europe/London
BEGIN:DAYLIGHT
TZNAME:BST
TZOFFSETFROM:+0000
TZOFFSETTO:+0100
DTSTART:19700329T010000
RRULE:FREQ=YEARLY;BYMONTH=3;BYDAY=-1SU
END:DAYLIGHT
BEGIN:STANDARD
TZNAME:GMT
TZOFFSETFROM:+0100
TZOFFSETTO:+0000
DTSTART:19701025T020000
RRULE:FREQ=YEARLY;BYMONTH=10;BYDAY=-1SU
END:STANDARD
END:VTIMEZONE
BEGIN:VEVENT
DTSTART;TZID=Europe/London;VALUE=DATE:20251021
DTEND;TZID=Europe/London;VALUE=DATE:20251023
DTSTAMP:20260423T150446Z
UID:{599B023C-5DCE-4DF6-84169FFF9E586AD6}
LOCATION:Budapest\, Hungary
SUMMARY:International Conference on Evolutionary Biology and Principles (ICEBP - 25)
DESCRIPTION:The theme and objective of the conference is centered around addressing the key challenges faced by various industries, including engineering, medicine, social science, applied science, management, and others.\n
 \n
 Event details: https://www.sebiology.org/events/ems-event-calendar/international-conference-on-evolutionary-biology-and-principles-icebp-25.html
PRIORITY:1
END:VEVENT
END:VCALENDAR