BEGIN:VCALENDAR
PRODID:-//Pixl8//Eventfolio//EN
VERSION:2.0
X-WR-TIMEZONE:Europe/London
CALSCALE:GREGORIAN
METHOD:PUBLISH
CLASS:PUBLIC
BEGIN:VTIMEZONE
TZID:Europe/London
LAST-MODIFIED:20260306T231828Z
TZURL:https://www.tzurl.org/zoneinfo-outlook/Europe/London
X-LIC-LOCATION:Europe/London
BEGIN:DAYLIGHT
TZNAME:BST
TZOFFSETFROM:+0000
TZOFFSETTO:+0100
DTSTART:19700329T010000
RRULE:FREQ=YEARLY;BYMONTH=3;BYDAY=-1SU
END:DAYLIGHT
BEGIN:STANDARD
TZNAME:GMT
TZOFFSETFROM:+0100
TZOFFSETTO:+0000
DTSTART:19701025T020000
RRULE:FREQ=YEARLY;BYMONTH=10;BYDAY=-1SU
END:STANDARD
END:VTIMEZONE
BEGIN:VEVENT
DTSTART;TZID=Europe/London;VALUE=DATE:20251030
DTEND;TZID=Europe/London;VALUE=DATE:20251101
DTSTAMP:20260423T151944Z
UID:{F5AD0AF8-1FE8-41AD-B6592CDA6D7741B7}
LOCATION:Barcelona\, Spain
SUMMARY:International Conference on Oceanography and Marine Biology (ICOOMB)
DESCRIPTION:This event will bring leading scientists, academicians, industry professionals, speakers, and experts of to one platform.\n
 \n
 Event details: https://www.sebiology.org/events/ems-event-calendar/international-conference-on-oceanography-and-marine-biology-icoomb.html
PRIORITY:1
END:VEVENT
END:VCALENDAR