BEGIN:VCALENDAR
PRODID:-//Pixl8//Eventfolio//EN
VERSION:2.0
X-WR-TIMEZONE:Europe/London
CALSCALE:GREGORIAN
METHOD:PUBLISH
CLASS:PUBLIC
BEGIN:VTIMEZONE
TZID:Europe/London
LAST-MODIFIED:20260306T231828Z
TZURL:https://www.tzurl.org/zoneinfo-outlook/Europe/London
X-LIC-LOCATION:Europe/London
BEGIN:DAYLIGHT
TZNAME:BST
TZOFFSETFROM:+0000
TZOFFSETTO:+0100
DTSTART:19700329T010000
RRULE:FREQ=YEARLY;BYMONTH=3;BYDAY=-1SU
END:DAYLIGHT
BEGIN:STANDARD
TZNAME:GMT
TZOFFSETFROM:+0100
TZOFFSETTO:+0000
DTSTART:19701025T020000
RRULE:FREQ=YEARLY;BYMONTH=10;BYDAY=-1SU
END:STANDARD
END:VTIMEZONE
BEGIN:VEVENT
DTSTART;TZID=Europe/London;VALUE=DATE:20230523
DTEND;TZID=Europe/London;VALUE=DATE:20230527
DTSTAMP:20260423T152123Z
UID:{D81E3224-7620-4DA7-A439F6658B0914E8}
LOCATION:Columbia\, USA
SUMMARY:IPG "Redox regulation of plant stress and development
DESCRIPTION:The meeting will bring researchers from diverse disciplines together to exchange ideas and promote new collaborations to address this central concept in biology.\n
 \n
 Event details: https://www.sebiology.org/events/ems-event-calendar/ipg-redox-regulation-of-plant-stress-and-development.html
PRIORITY:1
END:VEVENT
END:VCALENDAR