BEGIN:VCALENDAR
PRODID:-//Pixl8//Eventfolio//EN
VERSION:2.0
X-WR-TIMEZONE:Europe/London
CALSCALE:GREGORIAN
METHOD:PUBLISH
CLASS:PUBLIC
BEGIN:VTIMEZONE
TZID:Europe/London
LAST-MODIFIED:20260306T231828Z
TZURL:https://www.tzurl.org/zoneinfo-outlook/Europe/London
X-LIC-LOCATION:Europe/London
BEGIN:DAYLIGHT
TZNAME:BST
TZOFFSETFROM:+0000
TZOFFSETTO:+0100
DTSTART:19700329T010000
RRULE:FREQ=YEARLY;BYMONTH=3;BYDAY=-1SU
END:DAYLIGHT
BEGIN:STANDARD
TZNAME:GMT
TZOFFSETFROM:+0100
TZOFFSETTO:+0000
DTSTART:19701025T020000
RRULE:FREQ=YEARLY;BYMONTH=10;BYDAY=-1SU
END:STANDARD
END:VTIMEZONE
BEGIN:VEVENT
DTSTART;TZID=Europe/London:20230913T120000
DTEND;TZID=Europe/London:20230913T130000
DTSTAMP:20260421T170249Z
UID:{F96C59F0-5DC7-4DED-B80559805FCE9254}
LOCATION:Zoom
SUMMARY:Leaders of the Future with Dr Oliver Castell
DESCRIPTION:Our fourth speaker is Dr Oliver Castell, and his talk will take place on Wednesday, 13 September, at 12 pm (UK time).\n
 \n
 Event details: https://www.sebiology.org/events/ems-event-calendar/leaders-of-the-future-with-dr-oliver-castell.html
PRIORITY:1
END:VEVENT
END:VCALENDAR