BEGIN:VCALENDAR
PRODID:-//Pixl8//Eventfolio//EN
VERSION:2.0
X-WR-TIMEZONE:Europe/London
CALSCALE:GREGORIAN
METHOD:PUBLISH
CLASS:PUBLIC
BEGIN:VTIMEZONE
TZID:Europe/London
LAST-MODIFIED:20260306T231828Z
TZURL:https://www.tzurl.org/zoneinfo-outlook/Europe/London
X-LIC-LOCATION:Europe/London
BEGIN:DAYLIGHT
TZNAME:BST
TZOFFSETFROM:+0000
TZOFFSETTO:+0100
DTSTART:19700329T010000
RRULE:FREQ=YEARLY;BYMONTH=3;BYDAY=-1SU
END:DAYLIGHT
BEGIN:STANDARD
TZNAME:GMT
TZOFFSETFROM:+0100
TZOFFSETTO:+0000
DTSTART:19701025T020000
RRULE:FREQ=YEARLY;BYMONTH=10;BYDAY=-1SU
END:STANDARD
END:VTIMEZONE
BEGIN:VEVENT
DTSTART;TZID=Europe/London:20220914T093000
DTEND;TZID=Europe/London:20220914T123000
DTSTAMP:20260423T150616Z
UID:{3A617F24-1900-4661-82045A042320EB93}
LOCATION:Online
SUMMARY:Leading and supporting others for ECRs and New PIs (AM)
DESCRIPTION:This workshop will explore the role that emotional intelligence plays in different contexts.\n
 \n
 Event details: https://www.sebiology.org/events/ems-event-calendar/leading-and-supporting-others-for-ecrs-and-new-pis-am.html
PRIORITY:1
END:VEVENT
END:VCALENDAR