BEGIN:VCALENDAR
PRODID:-//Pixl8//Eventfolio//EN
VERSION:2.0
X-WR-TIMEZONE:Etc/GMT
CALSCALE:GREGORIAN
METHOD:PUBLISH
CLASS:PUBLIC
BEGIN:VTIMEZONE
TZID:Etc/GMT
LAST-MODIFIED:20260306T231828Z
TZURL:https://www.tzurl.org/zoneinfo-outlook/Etc/GMT
X-LIC-LOCATION:Etc/GMT
BEGIN:STANDARD
TZNAME:GMT
TZOFFSETFROM:+0000
TZOFFSETTO:+0000
DTSTART:19700101T000000
END:STANDARD
END:VTIMEZONE
BEGIN:VEVENT
DTSTART;TZID=Etc/GMT:20220208T093000
DTEND;TZID=Etc/GMT:20220208T123000
DTSTAMP:20260424T170510Z
UID:{8AEF60BE-A759-44D9-8E91CEFFC2874223}
LOCATION:Online
SUMMARY:Maintaining your wellbeing during your PhD (am)
DESCRIPTION:An interactive workshop to develop practical skills in coping with the stresses of your PhD\n
 \n
 Event details: https://www.sebiology.org/events/ems-event-calendar/maintaining-your-wellbeing-during-your-phd-am.html
PRIORITY:1
END:VEVENT
END:VCALENDAR