BEGIN:VCALENDAR
PRODID:-//Pixl8//Eventfolio//EN
VERSION:2.0
X-WR-TIMEZONE:Europe/London
CALSCALE:GREGORIAN
METHOD:PUBLISH
CLASS:PUBLIC
BEGIN:VTIMEZONE
TZID:Europe/London
LAST-MODIFIED:20260306T231828Z
TZURL:https://www.tzurl.org/zoneinfo-outlook/Europe/London
X-LIC-LOCATION:Europe/London
BEGIN:DAYLIGHT
TZNAME:BST
TZOFFSETFROM:+0000
TZOFFSETTO:+0100
DTSTART:19700329T010000
RRULE:FREQ=YEARLY;BYMONTH=3;BYDAY=-1SU
END:DAYLIGHT
BEGIN:STANDARD
TZNAME:GMT
TZOFFSETFROM:+0100
TZOFFSETTO:+0000
DTSTART:19701025T020000
RRULE:FREQ=YEARLY;BYMONTH=10;BYDAY=-1SU
END:STANDARD
END:VTIMEZONE
BEGIN:VEVENT
DTSTART;TZID=Europe/London;VALUE=DATE:20240205
DTEND;TZID=Europe/London;VALUE=DATE:20240217
DTSTAMP:20260423T152408Z
UID:{5A4B10F3-558A-4CC3-B9B21D9A4B45A0A6}
LOCATION:Nottingham\, UK 
SUMMARY:Nottingham Festival of Science and Curiosity
DESCRIPTION:An annual festival which is all about showcasing a world of science and curiosity that’s all around us every day.\n
 \n
 Event details: https://www.sebiology.org/events/ems-event-calendar/nottingham-festival-of-science-and-curiosity.html
PRIORITY:1
END:VEVENT
END:VCALENDAR