BEGIN:VCALENDAR
PRODID:-//Pixl8//Eventfolio//EN
VERSION:2.0
X-WR-TIMEZONE:Europe/London
CALSCALE:GREGORIAN
METHOD:PUBLISH
CLASS:PUBLIC
BEGIN:VTIMEZONE
TZID:Europe/London
LAST-MODIFIED:20260306T231828Z
TZURL:https://www.tzurl.org/zoneinfo-outlook/Europe/London
X-LIC-LOCATION:Europe/London
BEGIN:DAYLIGHT
TZNAME:BST
TZOFFSETFROM:+0000
TZOFFSETTO:+0100
DTSTART:19700329T010000
RRULE:FREQ=YEARLY;BYMONTH=3;BYDAY=-1SU
END:DAYLIGHT
BEGIN:STANDARD
TZNAME:GMT
TZOFFSETFROM:+0100
TZOFFSETTO:+0000
DTSTART:19701025T020000
RRULE:FREQ=YEARLY;BYMONTH=10;BYDAY=-1SU
END:STANDARD
END:VTIMEZONE
BEGIN:VEVENT
DTSTART;TZID=Europe/London:20251015T130000
DTEND;TZID=Europe/London:20251015T140000
DTSTAMP:20260419T134235Z
UID:{310AEF3B-9B2C-4069-933AF8EC43A5D675}
LOCATION:Zoom
SUMMARY:Using AI in student assessment, marking, and feedback
DESCRIPTION:Nigel Francis and Jordon Millward will discuss their work on AI in student assessment, marking, and feedback, followed by an open floor for audience discussion. The first webinar in our new Outreach Education and Diversity (OED) series.\n
 \n
 Event details: https://www.sebiology.org/events/ems-event-calendar/oed-webinar-1.html
PRIORITY:1
END:VEVENT
END:VCALENDAR