BEGIN:VCALENDAR
PRODID:-//Pixl8//Eventfolio//EN
VERSION:2.0
X-WR-TIMEZONE:Etc/GMT
CALSCALE:GREGORIAN
METHOD:PUBLISH
CLASS:PUBLIC
BEGIN:VTIMEZONE
TZID:Etc/GMT
LAST-MODIFIED:20260306T231828Z
TZURL:https://www.tzurl.org/zoneinfo-outlook/Etc/GMT
X-LIC-LOCATION:Etc/GMT
BEGIN:STANDARD
TZNAME:GMT
TZOFFSETFROM:+0000
TZOFFSETTO:+0000
DTSTART:19700101T000000
END:STANDARD
END:VTIMEZONE
BEGIN:VEVENT
DTSTART;TZID=Etc/GMT;VALUE=DATE:20230910
DTEND;TZID=Etc/GMT;VALUE=DATE:20230916
DTSTAMP:20260423T125039Z
UID:{90FAAF95-BC4E-458E-A51753C38B6FADB1}
LOCATION:Portugal
SUMMARY:Plant Environmental Physiology Group (PEPG)’s Field Techniques Workshop 2023
DESCRIPTION:This event will invite 65 plant biologists to come together for a series of practical workshops, alongside presenting their work in the form of a poster\n
 \n
 Event details: https://www.sebiology.org/events/ems-event-calendar/pepg.html
PRIORITY:1
END:VEVENT
END:VCALENDAR