BEGIN:VCALENDAR
PRODID:-//Pixl8//Eventfolio//EN
VERSION:2.0
X-WR-TIMEZONE:Europe/London
CALSCALE:GREGORIAN
METHOD:PUBLISH
CLASS:PUBLIC
BEGIN:VTIMEZONE
TZID:Europe/London
LAST-MODIFIED:20260306T231828Z
TZURL:https://www.tzurl.org/zoneinfo-outlook/Europe/London
X-LIC-LOCATION:Europe/London
BEGIN:DAYLIGHT
TZNAME:BST
TZOFFSETFROM:+0000
TZOFFSETTO:+0100
DTSTART:19700329T010000
RRULE:FREQ=YEARLY;BYMONTH=3;BYDAY=-1SU
END:DAYLIGHT
BEGIN:STANDARD
TZNAME:GMT
TZOFFSETFROM:+0100
TZOFFSETTO:+0000
DTSTART:19701025T020000
RRULE:FREQ=YEARLY;BYMONTH=10;BYDAY=-1SU
END:STANDARD
END:VTIMEZONE
BEGIN:VEVENT
DTSTART;TZID=Europe/London;VALUE=DATE:20241210
DTEND;TZID=Europe/London;VALUE=DATE:20241213
DTSTAMP:20260423T150046Z
UID:{58B3E55B-56AC-40DF-ADA38122A719B43B}
LOCATION:Harrogate\, United kingdom
SUMMARY:Pharmacology 2024
DESCRIPTION:The British Pharmacological Society is seeking symposium, workshop and debate proposals for its flagship conference, Pharmacology 2024, which will be held from 10-12 December 2024 at the Harrogate Convention Centre.\n
 \n
 Event details: https://www.sebiology.org/events/ems-event-calendar/pharmacology-2024.html
PRIORITY:1
END:VEVENT
END:VCALENDAR