BEGIN:VCALENDAR
PRODID:-//Pixl8//Eventfolio//EN
VERSION:2.0
X-WR-TIMEZONE:Europe/London
CALSCALE:GREGORIAN
METHOD:PUBLISH
CLASS:PUBLIC
BEGIN:VTIMEZONE
TZID:Europe/London
LAST-MODIFIED:20260306T231828Z
TZURL:https://www.tzurl.org/zoneinfo-outlook/Europe/London
X-LIC-LOCATION:Europe/London
BEGIN:DAYLIGHT
TZNAME:BST
TZOFFSETFROM:+0000
TZOFFSETTO:+0100
DTSTART:19700329T010000
RRULE:FREQ=YEARLY;BYMONTH=3;BYDAY=-1SU
END:DAYLIGHT
BEGIN:STANDARD
TZNAME:GMT
TZOFFSETFROM:+0100
TZOFFSETTO:+0000
DTSTART:19701025T020000
RRULE:FREQ=YEARLY;BYMONTH=10;BYDAY=-1SU
END:STANDARD
END:VTIMEZONE
BEGIN:VEVENT
DTSTART;TZID=Europe/London:20250603T143000
DTEND;TZID=Europe/London:20250603T173000
DTSTAMP:20260424T012201Z
UID:{972E77BC-D272-43AA-BB05318B0F12BCCC}
LOCATION:One Birdcage Walk\, London SW1H 9JJ
SUMMARY:Policy Lates: Bioscience in Government and Parliament
DESCRIPTION:This event is exclusive for SEB members and will explore how the bioscience community can best engage with the UK Government and Parliament to provide evidence and expertise via advisory and career routes.\n
 \n
 Event details: https://www.sebiology.org/events/ems-event-calendar/policy-lates-bioscience-in-government-and-parliament.html
PRIORITY:1
END:VEVENT
END:VCALENDAR