BEGIN:VCALENDAR
PRODID:-//Pixl8//Eventfolio//EN
VERSION:2.0
X-WR-TIMEZONE:Europe/London
CALSCALE:GREGORIAN
METHOD:PUBLISH
CLASS:PUBLIC
BEGIN:VTIMEZONE
TZID:Europe/London
LAST-MODIFIED:20260306T231828Z
TZURL:https://www.tzurl.org/zoneinfo-outlook/Europe/London
X-LIC-LOCATION:Europe/London
BEGIN:DAYLIGHT
TZNAME:BST
TZOFFSETFROM:+0000
TZOFFSETTO:+0100
DTSTART:19700329T010000
RRULE:FREQ=YEARLY;BYMONTH=3;BYDAY=-1SU
END:DAYLIGHT
BEGIN:STANDARD
TZNAME:GMT
TZOFFSETFROM:+0100
TZOFFSETTO:+0000
DTSTART:19701025T020000
RRULE:FREQ=YEARLY;BYMONTH=10;BYDAY=-1SU
END:STANDARD
END:VTIMEZONE
BEGIN:VEVENT
DTSTART;TZID=Europe/London;VALUE=DATE:20230516
DTEND;TZID=Europe/London;VALUE=DATE:20230524
DTSTAMP:20260423T145233Z
UID:{A7668BD4-BCFE-406F-A2BEA3D6CAF9E2B5}
LOCATION:Online
SUMMARY:Poster Design and Presentation Workshop
DESCRIPTION:Learn how to design and present your poster in a way that is engaging and interesting for your audience.\n
 \n
 Event details: https://www.sebiology.org/events/ems-event-calendar/poster-design-and-presentation-workshop.html
PRIORITY:1
END:VEVENT
END:VCALENDAR