BEGIN:VCALENDAR
PRODID:-//Pixl8//Eventfolio//EN
VERSION:2.0
X-WR-TIMEZONE:Etc/GMT
CALSCALE:GREGORIAN
METHOD:PUBLISH
CLASS:PUBLIC
BEGIN:VTIMEZONE
TZID:Etc/GMT
LAST-MODIFIED:20260306T231828Z
TZURL:https://www.tzurl.org/zoneinfo-outlook/Etc/GMT
X-LIC-LOCATION:Etc/GMT
BEGIN:STANDARD
TZNAME:GMT
TZOFFSETFROM:+0000
TZOFFSETTO:+0000
DTSTART:19700101T000000
END:STANDARD
END:VTIMEZONE
BEGIN:VEVENT
DTSTART;TZID=Etc/GMT:20220601T090000
DTEND;TZID=Etc/GMT:20220601T123000
DTSTAMP:20260423T125038Z
UID:{77196CBA-60B6-4A40-AB217EBBED0B858B}
LOCATION:Online
SUMMARY:Poster Design & Presentation Workshop (am)
DESCRIPTION:A two-part interactive workshop to create an refine your own scientific poster.\n
 \n
 Event details: https://www.sebiology.org/events/ems-event-calendar/poster-design-presentation-workshop-am.html
PRIORITY:1
END:VEVENT
END:VCALENDAR