BEGIN:VCALENDAR
PRODID:-//Pixl8//Eventfolio//EN
VERSION:2.0
X-WR-TIMEZONE:Europe/London
CALSCALE:GREGORIAN
METHOD:PUBLISH
CLASS:PUBLIC
BEGIN:VTIMEZONE
TZID:Europe/London
LAST-MODIFIED:20260306T231828Z
TZURL:https://www.tzurl.org/zoneinfo-outlook/Europe/London
X-LIC-LOCATION:Europe/London
BEGIN:DAYLIGHT
TZNAME:BST
TZOFFSETFROM:+0000
TZOFFSETTO:+0100
DTSTART:19700329T010000
RRULE:FREQ=YEARLY;BYMONTH=3;BYDAY=-1SU
END:DAYLIGHT
BEGIN:STANDARD
TZNAME:GMT
TZOFFSETFROM:+0100
TZOFFSETTO:+0000
DTSTART:19701025T020000
RRULE:FREQ=YEARLY;BYMONTH=10;BYDAY=-1SU
END:STANDARD
END:VTIMEZONE
BEGIN:VEVENT
DTSTART;TZID=Europe/London:20240610T183000
DTEND;TZID=Europe/London:20240610T210000
DTSTAMP:20260423T150203Z
UID:{3CB8E4CB-76CB-4417-A60411E2A71036DD}
LOCATION:Exeter Library\, UK / Online
SUMMARY:PRISM Speakers for Pride Month 2024
DESCRIPTION:They will talk about their experiences in STEMM* as members of the LGBTQIA+** community and provide tantalising insights into their work.\n
 \n
 Event details: https://www.sebiology.org/events/ems-event-calendar/prism-speakers-for-pride-month-2024.html
PRIORITY:1
END:VEVENT
END:VCALENDAR