BEGIN:VCALENDAR
PRODID:-//Pixl8//Eventfolio//EN
VERSION:2.0
X-WR-TIMEZONE:Europe/London
CALSCALE:GREGORIAN
METHOD:PUBLISH
CLASS:PUBLIC
BEGIN:VTIMEZONE
TZID:Europe/London
LAST-MODIFIED:20260306T231828Z
TZURL:https://www.tzurl.org/zoneinfo-outlook/Europe/London
X-LIC-LOCATION:Europe/London
BEGIN:DAYLIGHT
TZNAME:BST
TZOFFSETFROM:+0000
TZOFFSETTO:+0100
DTSTART:19700329T010000
RRULE:FREQ=YEARLY;BYMONTH=3;BYDAY=-1SU
END:DAYLIGHT
BEGIN:STANDARD
TZNAME:GMT
TZOFFSETFROM:+0100
TZOFFSETTO:+0000
DTSTART:19701025T020000
RRULE:FREQ=YEARLY;BYMONTH=10;BYDAY=-1SU
END:STANDARD
END:VTIMEZONE
BEGIN:VEVENT
DTSTART;TZID=Europe/London:20241114T183000
DTEND;TZID=Europe/London:20241114T210000
DTSTAMP:20260422T034454Z
UID:{76A7DC98-2C08-418D-BF16FC04D05B2B37}
LOCATION:
SUMMARY:PRISM Speakers: Saving bats and storing data
DESCRIPTION:Join to hear exciting insights into bat conservation and the future of data storage from LGBTQ+ scientists Dr Orly Razgour and Joe Pady.\n
 \n
 Event details: https://www.sebiology.org/events/ems-event-calendar/prism-speakers-saving-bats-and-storing-data.html
PRIORITY:1
END:VEVENT
END:VCALENDAR