BEGIN:VCALENDAR
PRODID:-//Pixl8//Eventfolio//EN
VERSION:2.0
X-WR-TIMEZONE:Europe/London
CALSCALE:GREGORIAN
METHOD:PUBLISH
CLASS:PUBLIC
BEGIN:VTIMEZONE
TZID:Europe/London
LAST-MODIFIED:20260306T231828Z
TZURL:https://www.tzurl.org/zoneinfo-outlook/Europe/London
X-LIC-LOCATION:Europe/London
BEGIN:DAYLIGHT
TZNAME:BST
TZOFFSETFROM:+0000
TZOFFSETTO:+0100
DTSTART:19700329T010000
RRULE:FREQ=YEARLY;BYMONTH=3;BYDAY=-1SU
END:DAYLIGHT
BEGIN:STANDARD
TZNAME:GMT
TZOFFSETFROM:+0100
TZOFFSETTO:+0000
DTSTART:19701025T020000
RRULE:FREQ=YEARLY;BYMONTH=10;BYDAY=-1SU
END:STANDARD
END:VTIMEZONE
BEGIN:VEVENT
DTSTART;TZID=Europe/London:20241106T090000
DTEND;TZID=Europe/London:20241106T170000
DTSTAMP:20260420T090141Z
UID:{7ACE6FE0-296C-4E19-8E2904CE494575AA.45602}
LOCATION:Online
SUMMARY:Project Management Essentials for Researchers
DESCRIPTION:Discover the core elements of project management and how to apply them in your research projects.\n
 \n
 Event details: https://www.sebiology.org/events/ems-event-calendar/project-management-essentials-for-researchers.html
PRIORITY:1
END:VEVENT
END:VCALENDAR