BEGIN:VCALENDAR
PRODID:-//Pixl8//Eventfolio//EN
VERSION:2.0
X-WR-TIMEZONE:Europe/London
CALSCALE:GREGORIAN
METHOD:PUBLISH
CLASS:PUBLIC
BEGIN:VTIMEZONE
TZID:Europe/London
LAST-MODIFIED:20260306T231828Z
TZURL:https://www.tzurl.org/zoneinfo-outlook/Europe/London
X-LIC-LOCATION:Europe/London
BEGIN:DAYLIGHT
TZNAME:BST
TZOFFSETFROM:+0000
TZOFFSETTO:+0100
DTSTART:19700329T010000
RRULE:FREQ=YEARLY;BYMONTH=3;BYDAY=-1SU
END:DAYLIGHT
BEGIN:STANDARD
TZNAME:GMT
TZOFFSETFROM:+0100
TZOFFSETTO:+0000
DTSTART:19701025T020000
RRULE:FREQ=YEARLY;BYMONTH=10;BYDAY=-1SU
END:STANDARD
END:VTIMEZONE
BEGIN:VEVENT
DTSTART;TZID=Europe/London;VALUE=DATE:20240305
DTEND;TZID=Europe/London;VALUE=DATE:20240308
DTSTAMP:20260423T145908Z
UID:{8340FA9E-AAA5-4B00-B1F7B8B8AA7049C4}
LOCATION:Online
SUMMARY:RSB Bioscience Careers Day
DESCRIPTION:Find out about the variety of careers open to bioscience students at the RSB Bioscience Careers Day 2024, 5-7 March from 12:00 to 14:10 daily. Each day will comprise of expert talks, Q&A's and skills workshops, and there will also be opportunities to chat with bioscience professionals and other students from across the UK.\n
 \n
 Event details: https://www.sebiology.org/events/ems-event-calendar/rsb-bioscience-careers-day.html
PRIORITY:1
END:VEVENT
END:VCALENDAR