BEGIN:VCALENDAR
PRODID:-//Pixl8//Eventfolio//EN
VERSION:2.0
X-WR-TIMEZONE:Europe/London
CALSCALE:GREGORIAN
METHOD:PUBLISH
CLASS:PUBLIC
BEGIN:VTIMEZONE
TZID:Europe/London
LAST-MODIFIED:20260306T231828Z
TZURL:https://www.tzurl.org/zoneinfo-outlook/Europe/London
X-LIC-LOCATION:Europe/London
BEGIN:DAYLIGHT
TZNAME:BST
TZOFFSETFROM:+0000
TZOFFSETTO:+0100
DTSTART:19700329T010000
RRULE:FREQ=YEARLY;BYMONTH=3;BYDAY=-1SU
END:DAYLIGHT
BEGIN:STANDARD
TZNAME:GMT
TZOFFSETFROM:+0100
TZOFFSETTO:+0000
DTSTART:19701025T020000
RRULE:FREQ=YEARLY;BYMONTH=10;BYDAY=-1SU
END:STANDARD
END:VTIMEZONE
BEGIN:VEVENT
DTSTART;TZID=Europe/London;VALUE=DATE:20221209
DTEND;TZID=Europe/London;VALUE=DATE:20221210
DTSTAMP:20260423T125524Z
UID:{97A70509-E8B4-4F4D-AA7BC6A974187742}
LOCATION:Leiden\, Netherlands
SUMMARY:Science workshop at Lorentz Center, Leiden University
DESCRIPTION:Meet researchers who have engaged with the media, learn from policymakers about why good evidence is important for them and how researchers can help inform policy.\n
 \n
 Event details: https://www.sebiology.org/events/ems-event-calendar/science-workshop-at-lorentz-center-leiden-university.html
PRIORITY:1
END:VEVENT
END:VCALENDAR