BEGIN:VCALENDAR
PRODID:-//Pixl8//Eventfolio//EN
VERSION:2.0
X-WR-TIMEZONE:Europe/London
CALSCALE:GREGORIAN
METHOD:PUBLISH
CLASS:PUBLIC
BEGIN:VTIMEZONE
TZID:Europe/London
LAST-MODIFIED:20260306T231828Z
TZURL:https://www.tzurl.org/zoneinfo-outlook/Europe/London
X-LIC-LOCATION:Europe/London
BEGIN:DAYLIGHT
TZNAME:BST
TZOFFSETFROM:+0000
TZOFFSETTO:+0100
DTSTART:19700329T010000
RRULE:FREQ=YEARLY;BYMONTH=3;BYDAY=-1SU
END:DAYLIGHT
BEGIN:STANDARD
TZNAME:GMT
TZOFFSETFROM:+0100
TZOFFSETTO:+0000
DTSTART:19701025T020000
RRULE:FREQ=YEARLY;BYMONTH=10;BYDAY=-1SU
END:STANDARD
END:VTIMEZONE
BEGIN:VEVENT
DTSTART;TZID=Europe/London:20231123T190000
DTEND;TZID=Europe/London:20231123T230000
DTSTAMP:20260423T145126Z
UID:{B68DFF47-DEAC-4321-807B6396265A2984}
LOCATION:Bush House\, Kings College London\, 30 Aldwych\, London\, WC2B 4BG
SUMMARY:SEB Centenary Dinner 
DESCRIPTION:To wrap up an exciting and intense year of events and initiatives, the SEB will host a Centenary dinner at the end of November 2023.\n
 \n
 \n
 \n
 Invited guests will have the chance to celebrate and connect with people who have shaped our history for the past years. Among the guests are former SEB presidents, current SEB staff, trustees, and partners.\n
 \n
 Event details: https://www.sebiology.org/events/ems-event-calendar/seb-centenary-dinner.html
PRIORITY:1
END:VEVENT
END:VCALENDAR