BEGIN:VCALENDAR
PRODID:-//Pixl8//Eventfolio//EN
VERSION:2.0
X-WR-TIMEZONE:Europe/London
CALSCALE:GREGORIAN
METHOD:PUBLISH
CLASS:PUBLIC
BEGIN:VTIMEZONE
TZID:Europe/London
LAST-MODIFIED:20260306T231828Z
TZURL:https://www.tzurl.org/zoneinfo-outlook/Europe/London
X-LIC-LOCATION:Europe/London
BEGIN:DAYLIGHT
TZNAME:BST
TZOFFSETFROM:+0000
TZOFFSETTO:+0100
DTSTART:19700329T010000
RRULE:FREQ=YEARLY;BYMONTH=3;BYDAY=-1SU
END:DAYLIGHT
BEGIN:STANDARD
TZNAME:GMT
TZOFFSETFROM:+0100
TZOFFSETTO:+0000
DTSTART:19701025T020000
RRULE:FREQ=YEARLY;BYMONTH=10;BYDAY=-1SU
END:STANDARD
END:VTIMEZONE
BEGIN:VEVENT
DTSTART;TZID=Europe/London:20240923T090000
DTEND;TZID=Europe/London:20240923T170000
DTSTAMP:20260423T203731Z
UID:{97FAA84F-13E0-4EB6-BFA90DB4DDF5A78F.45558}
LOCATION:Online
SUMMARY:SEB Mentoring Scheme Briefing
DESCRIPTION:Discover the Society for Experimental Biology's 2024-2025 mentoring scheme! Join our briefing session to learn how it connects members across career stages and provides development opportunities for all, as well as developing your own mentor/mentee skills.\n
 \n
 Event details: https://www.sebiology.org/events/ems-event-calendar/seb-mentoring-scheme-briefing.html
PRIORITY:1
END:VEVENT
END:VCALENDAR