BEGIN:VCALENDAR
PRODID:-//Pixl8//Eventfolio//EN
VERSION:2.0
X-WR-TIMEZONE:Europe/Paris
CALSCALE:GREGORIAN
METHOD:PUBLISH
CLASS:PUBLIC
BEGIN:VTIMEZONE
TZID:Europe/Paris
LAST-MODIFIED:20260306T231828Z
TZURL:https://www.tzurl.org/zoneinfo-outlook/Europe/Paris
X-LIC-LOCATION:Europe/Paris
BEGIN:DAYLIGHT
TZNAME:CEST
TZOFFSETFROM:+0100
TZOFFSETTO:+0200
DTSTART:19700329T020000
RRULE:FREQ=YEARLY;BYMONTH=3;BYDAY=-1SU
END:DAYLIGHT
BEGIN:STANDARD
TZNAME:CET
TZOFFSETFROM:+0200
TZOFFSETTO:+0100
DTSTART:19701025T030000
RRULE:FREQ=YEARLY;BYMONTH=10;BYDAY=-1SU
END:STANDARD
END:VTIMEZONE
BEGIN:VEVENT
DTSTART;TZID=Europe/Paris;VALUE=DATE:20230625
DTEND;TZID=Europe/Paris;VALUE=DATE:20230702
DTSTAMP:20260423T145907Z
UID:{AE09EDE8-13D8-4981-BBE404839A7B06D8}
LOCATION:Versailles\, France
SUMMARY:SPS Summer School 2023
DESCRIPTION:The SPS Summer School 2023 will focus on the challenges of ensuring seed protection while meeting demands for a more environmentally respectful agriculture, reducing risks for humans and maintaining ecosystem health.\n
 \n
 Event details: https://www.sebiology.org/events/ems-event-calendar/sps-summer-school-2023.html
PRIORITY:1
END:VEVENT
END:VCALENDAR