BEGIN:VCALENDAR
PRODID:-//Pixl8//Eventfolio//EN
VERSION:2.0
X-WR-TIMEZONE:Europe/London
CALSCALE:GREGORIAN
METHOD:PUBLISH
CLASS:PUBLIC
BEGIN:VTIMEZONE
TZID:Europe/London
LAST-MODIFIED:20260306T231828Z
TZURL:https://www.tzurl.org/zoneinfo-outlook/Europe/London
X-LIC-LOCATION:Europe/London
BEGIN:DAYLIGHT
TZNAME:BST
TZOFFSETFROM:+0000
TZOFFSETTO:+0100
DTSTART:19700329T010000
RRULE:FREQ=YEARLY;BYMONTH=3;BYDAY=-1SU
END:DAYLIGHT
BEGIN:STANDARD
TZNAME:GMT
TZOFFSETFROM:+0100
TZOFFSETTO:+0000
DTSTART:19701025T020000
RRULE:FREQ=YEARLY;BYMONTH=10;BYDAY=-1SU
END:STANDARD
END:VTIMEZONE
BEGIN:VEVENT
DTSTART;TZID=Europe/London;VALUE=DATE:20250516
DTEND;TZID=Europe/London;VALUE=DATE:20250517
DTSTAMP:20260423T125447Z
UID:{165F7A51-1928-4773-A504F0DD75EF7A40}
LOCATION:Norwich\, UK
SUMMARY:Standing up for Science workshop – Norwich Research Park 
DESCRIPTION:This workshop encourages Early Career Researchers (ECRs) to make their voices heard in public debates about science.\n
 \n
 Event details: https://www.sebiology.org/events/ems-event-calendar/standing-up-for-science-workshop-norwich-research-park.html
PRIORITY:1
END:VEVENT
END:VCALENDAR