BEGIN:VCALENDAR
PRODID:-//Pixl8//Eventfolio//EN
VERSION:2.0
X-WR-TIMEZONE:Europe/London
CALSCALE:GREGORIAN
METHOD:PUBLISH
CLASS:PUBLIC
BEGIN:VTIMEZONE
TZID:Europe/London
LAST-MODIFIED:20260306T231828Z
TZURL:https://www.tzurl.org/zoneinfo-outlook/Europe/London
X-LIC-LOCATION:Europe/London
BEGIN:DAYLIGHT
TZNAME:BST
TZOFFSETFROM:+0000
TZOFFSETTO:+0100
DTSTART:19700329T010000
RRULE:FREQ=YEARLY;BYMONTH=3;BYDAY=-1SU
END:DAYLIGHT
BEGIN:STANDARD
TZNAME:GMT
TZOFFSETFROM:+0100
TZOFFSETTO:+0000
DTSTART:19701025T020000
RRULE:FREQ=YEARLY;BYMONTH=10;BYDAY=-1SU
END:STANDARD
END:VTIMEZONE
BEGIN:VEVENT
DTSTART;TZID=Europe/London;VALUE=DATE:20240312
DTEND;TZID=Europe/London;VALUE=DATE:20240314
DTSTAMP:20260424T152034Z
UID:{8955B3DA-3A1C-47D6-9AA193A0F4EE9D7F}
LOCATION:Online
SUMMARY:Storytelling & Narrative to Communicate your Research
DESCRIPTION:Learn how to use narrative structures and storytelling to share your science and communicate research results.\n
 \n
 Event details: https://www.sebiology.org/events/ems-event-calendar/storytelling-narrative-to-communicate-your-research.html
PRIORITY:1
END:VEVENT
END:VCALENDAR