BEGIN:VCALENDAR
PRODID:-//Pixl8//Eventfolio//EN
VERSION:2.0
X-WR-TIMEZONE:Europe/Paris
CALSCALE:GREGORIAN
METHOD:PUBLISH
CLASS:PUBLIC
BEGIN:VTIMEZONE
TZID:Europe/Paris
LAST-MODIFIED:20260306T231828Z
TZURL:https://www.tzurl.org/zoneinfo-outlook/Europe/Paris
X-LIC-LOCATION:Europe/Paris
BEGIN:DAYLIGHT
TZNAME:CEST
TZOFFSETFROM:+0100
TZOFFSETTO:+0200
DTSTART:19700329T020000
RRULE:FREQ=YEARLY;BYMONTH=3;BYDAY=-1SU
END:DAYLIGHT
BEGIN:STANDARD
TZNAME:CET
TZOFFSETFROM:+0200
TZOFFSETTO:+0100
DTSTART:19701025T030000
RRULE:FREQ=YEARLY;BYMONTH=10;BYDAY=-1SU
END:STANDARD
END:VTIMEZONE
BEGIN:VEVENT
DTSTART;TZID=Europe/Paris;VALUE=DATE:20220619
DTEND;TZID=Europe/Paris;VALUE=DATE:20220626
DTSTAMP:20260423T150246Z
UID:{BD49B93F-744D-4129-B52E4DE086526E64}
LOCATION:Institut Jean-Pierre Bourgin
SUMMARY:Summer School 2022 - Plant cell walls
DESCRIPTION:This SPS Summer School 2021 is a one-week programme for outstanding and enthusiastic PhD students and young post-docs. It will provide them with an introduction in chemistry, biophysics, molecular and cell biology in relation to the plant cell wall.\n
 \n
 Event details: https://www.sebiology.org/events/ems-event-calendar/summer-school-2022-plant-cell-walls.html
PRIORITY:1
END:VEVENT
END:VCALENDAR