BEGIN:VCALENDAR
PRODID:-//Pixl8//Eventfolio//EN
VERSION:2.0
X-WR-TIMEZONE:Europe/Paris
CALSCALE:GREGORIAN
METHOD:PUBLISH
CLASS:PUBLIC
BEGIN:VTIMEZONE
TZID:Europe/Paris
LAST-MODIFIED:20260306T231828Z
TZURL:https://www.tzurl.org/zoneinfo-outlook/Europe/Paris
X-LIC-LOCATION:Europe/Paris
BEGIN:DAYLIGHT
TZNAME:CEST
TZOFFSETFROM:+0100
TZOFFSETTO:+0200
DTSTART:19700329T020000
RRULE:FREQ=YEARLY;BYMONTH=3;BYDAY=-1SU
END:DAYLIGHT
BEGIN:STANDARD
TZNAME:CET
TZOFFSETFROM:+0200
TZOFFSETTO:+0100
DTSTART:19701025T030000
RRULE:FREQ=YEARLY;BYMONTH=10;BYDAY=-1SU
END:STANDARD
END:VTIMEZONE
BEGIN:VEVENT
DTSTART;TZID=Europe/Paris;VALUE=DATE:20220703
DTEND;TZID=Europe/Paris;VALUE=DATE:20220709
DTSTAMP:20260423T164540Z
UID:{A365E647-E575-495F-9786C9B6DF5B10EF}
LOCATION:Centre Port-Royal 
SUMMARY:Summer School 2022 - Plant sugars
DESCRIPTION:The SPS Summer School 2022 is a one-week program for outstanding and enthusiastic master and PhD students, as well as post-docs working in plant biology on biological questions related to sugar transport, metabolism and/or signaling. It will provide them with an introduction on several aspects of the molecular and cell biology of sugar metabolism, transport and signaling in relation to global climate changes.\n
 \n
 Event details: https://www.sebiology.org/events/ems-event-calendar/summer-school-2022-plant-sugars.html
PRIORITY:1
END:VEVENT
END:VCALENDAR