BEGIN:VCALENDAR
PRODID:-//Pixl8//Eventfolio//EN
VERSION:2.0
X-WR-TIMEZONE:Europe/London
CALSCALE:GREGORIAN
METHOD:PUBLISH
CLASS:PUBLIC
BEGIN:VTIMEZONE
TZID:Europe/London
LAST-MODIFIED:20260306T231828Z
TZURL:https://www.tzurl.org/zoneinfo-outlook/Europe/London
X-LIC-LOCATION:Europe/London
BEGIN:DAYLIGHT
TZNAME:BST
TZOFFSETFROM:+0000
TZOFFSETTO:+0100
DTSTART:19700329T010000
RRULE:FREQ=YEARLY;BYMONTH=3;BYDAY=-1SU
END:DAYLIGHT
BEGIN:STANDARD
TZNAME:GMT
TZOFFSETFROM:+0100
TZOFFSETTO:+0000
DTSTART:19701025T020000
RRULE:FREQ=YEARLY;BYMONTH=10;BYDAY=-1SU
END:STANDARD
END:VTIMEZONE
BEGIN:VEVENT
DTSTART;TZID=Europe/London;VALUE=DATE:20240616
DTEND;TZID=Europe/London;VALUE=DATE:20240622
DTSTAMP:20260425T184340Z
UID:{864EB00E-B23E-41F3-87DA32DFF9E46DDD}
LOCATION:Saint-Lambert-des-Bois (close to Paris)
SUMMARY:Summer School 2024: Plant science to tackle climate change
DESCRIPTION:This Summer school is co-organized by the French Saclay Plant Sciences (SPS) network and the German Cluster of Excellence on Plant Sciences (CEPLAS).\n
 \n
 Event details: https://www.sebiology.org/events/ems-event-calendar/summer-school-2024-plant-science-to-tackle-climate-change.html
PRIORITY:1
END:VEVENT
END:VCALENDAR