BEGIN:VCALENDAR
PRODID:-//Pixl8//Eventfolio//EN
VERSION:2.0
X-WR-TIMEZONE:Europe/London
CALSCALE:GREGORIAN
METHOD:PUBLISH
CLASS:PUBLIC
BEGIN:VTIMEZONE
TZID:Europe/London
LAST-MODIFIED:20260306T231828Z
TZURL:https://www.tzurl.org/zoneinfo-outlook/Europe/London
X-LIC-LOCATION:Europe/London
BEGIN:DAYLIGHT
TZNAME:BST
TZOFFSETFROM:+0000
TZOFFSETTO:+0100
DTSTART:19700329T010000
RRULE:FREQ=YEARLY;BYMONTH=3;BYDAY=-1SU
END:DAYLIGHT
BEGIN:STANDARD
TZNAME:GMT
TZOFFSETFROM:+0100
TZOFFSETTO:+0000
DTSTART:19701025T020000
RRULE:FREQ=YEARLY;BYMONTH=10;BYDAY=-1SU
END:STANDARD
END:VTIMEZONE
BEGIN:VEVENT
DTSTART;TZID=Europe/London;VALUE=DATE:20250922
DTEND;TZID=Europe/London;VALUE=DATE:20250926
DTSTAMP:20260423T175426Z
UID:{51B44BD8-4FCD-4B42-9A7B52304330BAE2}
LOCATION:La Grande Motte\, France
SUMMARY:SUMOylation: From discovery to translation
DESCRIPTION:The aim of this second EMBO Workshop on SUMOylation is to integrate perspectives on the function of SUMOylation from the fields of biochemistry, molecular cell biology, structural biology, genetics, plant science, pluripotency, immunity, oncology, neurodegeneration and drug discovery\n
 \n
 Event details: https://www.sebiology.org/events/ems-event-calendar/sumoylation-from-discovery-to-translation.html
PRIORITY:1
END:VEVENT
END:VCALENDAR