BEGIN:VCALENDAR
PRODID:-//Pixl8//Eventfolio//EN
VERSION:2.0
X-WR-TIMEZONE:Europe/London
CALSCALE:GREGORIAN
METHOD:PUBLISH
CLASS:PUBLIC
BEGIN:VTIMEZONE
TZID:Europe/London
LAST-MODIFIED:20260306T231828Z
TZURL:https://www.tzurl.org/zoneinfo-outlook/Europe/London
X-LIC-LOCATION:Europe/London
BEGIN:DAYLIGHT
TZNAME:BST
TZOFFSETFROM:+0000
TZOFFSETTO:+0100
DTSTART:19700329T010000
RRULE:FREQ=YEARLY;BYMONTH=3;BYDAY=-1SU
END:DAYLIGHT
BEGIN:STANDARD
TZNAME:GMT
TZOFFSETFROM:+0100
TZOFFSETTO:+0000
DTSTART:19701025T020000
RRULE:FREQ=YEARLY;BYMONTH=10;BYDAY=-1SU
END:STANDARD
END:VTIMEZONE
BEGIN:VEVENT
DTSTART;TZID=Europe/London:20260526T130000
DTEND;TZID=Europe/London:20260526T140000
DTSTAMP:20260422T192132Z
UID:{0FB9E5C7-B35E-48EF-B208580BC4EE0570}
LOCATION:
SUMMARY:Writing and Responding to Peer Review
DESCRIPTION:A practical introduction to writing and responding to peer reviews, led by journal editors, for early career researchers looking to understand and get the most out of the peer review process.\n
 \n
 Event details: https://www.sebiology.org/events/ems-event-calendar/the-peer-review-process.html
PRIORITY:1
END:VEVENT
END:VCALENDAR