BEGIN:VCALENDAR
PRODID:-//Pixl8//Eventfolio//EN
VERSION:2.0
X-WR-TIMEZONE:Etc/GMT
CALSCALE:GREGORIAN
METHOD:PUBLISH
CLASS:PUBLIC
BEGIN:VTIMEZONE
TZID:Etc/GMT
LAST-MODIFIED:20260306T231828Z
TZURL:https://www.tzurl.org/zoneinfo-outlook/Etc/GMT
X-LIC-LOCATION:Etc/GMT
BEGIN:STANDARD
TZNAME:GMT
TZOFFSETFROM:+0000
TZOFFSETTO:+0000
DTSTART:19700101T000000
END:STANDARD
END:VTIMEZONE
BEGIN:VEVENT
DTSTART;TZID=Etc/GMT:20220404T140000
DTEND;TZID=Etc/GMT:20220404T170000
DTSTAMP:20260423T203245Z
UID:{AC9EE897-2F42-4222-B0A607B2E8A64341}
LOCATION:Online
SUMMARY:Three Minute Pitch (pm)
DESCRIPTION:Communicating your science to a non-scientific audience\n
 \n
 Event details: https://www.sebiology.org/events/ems-event-calendar/three-minute-pitch-pm.html
PRIORITY:1
END:VEVENT
END:VCALENDAR