BEGIN:VCALENDAR
PRODID:-//Pixl8//Eventfolio//EN
VERSION:2.0
X-WR-TIMEZONE:Europe/London
CALSCALE:GREGORIAN
METHOD:PUBLISH
CLASS:PUBLIC
BEGIN:VTIMEZONE
TZID:Europe/London
LAST-MODIFIED:20260306T231828Z
TZURL:https://www.tzurl.org/zoneinfo-outlook/Europe/London
X-LIC-LOCATION:Europe/London
BEGIN:DAYLIGHT
TZNAME:BST
TZOFFSETFROM:+0000
TZOFFSETTO:+0100
DTSTART:19700329T010000
RRULE:FREQ=YEARLY;BYMONTH=3;BYDAY=-1SU
END:DAYLIGHT
BEGIN:STANDARD
TZNAME:GMT
TZOFFSETFROM:+0100
TZOFFSETTO:+0000
DTSTART:19701025T020000
RRULE:FREQ=YEARLY;BYMONTH=10;BYDAY=-1SU
END:STANDARD
END:VTIMEZONE
BEGIN:VEVENT
DTSTART;TZID=Europe/London:20220927T090000
DTEND;TZID=Europe/London:20220929T170000
DTSTAMP:20260424T012526Z
UID:{E2ECE762-96B5-4FAF-BE80E64A49B27B52}
LOCATION:Online
SUMMARY:UK Conference of Bioinformatics and Computational Biology (UK-CBCB)
DESCRIPTION:How to manage biological data and use computational methods to power life science research\n
 \n
 Event details: https://www.sebiology.org/events/ems-event-calendar/uk-conference-of-bioinformatics-and-computational-biology-uk-cbcb.html
PRIORITY:1
END:VEVENT
END:VCALENDAR