BEGIN:VCALENDAR
PRODID:-//Pixl8//Eventfolio//EN
VERSION:2.0
X-WR-TIMEZONE:Europe/London
CALSCALE:GREGORIAN
METHOD:PUBLISH
CLASS:PUBLIC
BEGIN:VTIMEZONE
TZID:Europe/London
LAST-MODIFIED:20260306T231828Z
TZURL:https://www.tzurl.org/zoneinfo-outlook/Europe/London
X-LIC-LOCATION:Europe/London
BEGIN:DAYLIGHT
TZNAME:BST
TZOFFSETFROM:+0000
TZOFFSETTO:+0100
DTSTART:19700329T010000
RRULE:FREQ=YEARLY;BYMONTH=3;BYDAY=-1SU
END:DAYLIGHT
BEGIN:STANDARD
TZNAME:GMT
TZOFFSETFROM:+0100
TZOFFSETTO:+0000
DTSTART:19701025T020000
RRULE:FREQ=YEARLY;BYMONTH=10;BYDAY=-1SU
END:STANDARD
END:VTIMEZONE
BEGIN:VEVENT
DTSTART;TZID=Europe/London;VALUE=DATE:20230531
DTEND;TZID=Europe/London;VALUE=DATE:20230602
DTSTAMP:20260425T184932Z
UID:{F98499A8-D906-4707-B2F15D4BEEF5F331}
LOCATION:Online
SUMMARY:Wiki your Science! An Online Edit-a-thon
DESCRIPTION:Free training for creating and updating Wikipedia pages of biologists from historically marginalised communities across history, increasing content and images on experimental biology topics and translating pages to improve accessibility.\n
 \n
 Event details: https://www.sebiology.org/events/ems-event-calendar/wiki-your-science-an-online-edit-a-thon.html
PRIORITY:1
END:VEVENT
END:VCALENDAR